BEGIN:VCALENDAR
VERSION:2.0
PRODID:-//S.V. Oxytoc - ECPv6.15.20//NONSGML v1.0//EN
CALSCALE:GREGORIAN
METHOD:PUBLISH
X-WR-CALNAME:S.V. Oxytoc
X-ORIGINAL-URL:https://svoxytoc.nl
X-WR-CALDESC:Evenementen voor S.V. Oxytoc
REFRESH-INTERVAL;VALUE=DURATION:PT1H
X-Robots-Tag:noindex
X-PUBLISHED-TTL:PT1H
BEGIN:VTIMEZONE
TZID:Europe/Paris
BEGIN:DAYLIGHT
TZOFFSETFROM:+0100
TZOFFSETTO:+0200
TZNAME:CEST
DTSTART:20240331T010000
END:DAYLIGHT
BEGIN:STANDARD
TZOFFSETFROM:+0200
TZOFFSETTO:+0100
TZNAME:CET
DTSTART:20241027T010000
END:STANDARD
BEGIN:DAYLIGHT
TZOFFSETFROM:+0100
TZOFFSETTO:+0200
TZNAME:CEST
DTSTART:20250330T010000
END:DAYLIGHT
BEGIN:STANDARD
TZOFFSETFROM:+0200
TZOFFSETTO:+0100
TZNAME:CET
DTSTART:20251026T010000
END:STANDARD
BEGIN:DAYLIGHT
TZOFFSETFROM:+0100
TZOFFSETTO:+0200
TZNAME:CEST
DTSTART:20260329T010000
END:DAYLIGHT
BEGIN:STANDARD
TZOFFSETFROM:+0200
TZOFFSETTO:+0100
TZNAME:CET
DTSTART:20261025T010000
END:STANDARD
END:VTIMEZONE
BEGIN:VEVENT
DTSTART;TZID=Europe/Paris:20250507T130000
DTEND;TZID=Europe/Paris:20250507T170000
DTSTAMP:20260423T125034
CREATED:20250425T105430Z
LAST-MODIFIED:20250425T105430Z
UID:1553-1746622800-1746637200@svoxytoc.nl
SUMMARY:Snijzaal
DESCRIPTION:Bezoek de Snijzaal in Utrecht – Schrijf je nu in!\nAltijd al benieuwd geweest naar de anatomie van het menselijk lichaam? Dit is je kans! Op woensdag 7 mei organiseren wij een exclusief bezoek aan de snijzaal van het UMC Utrecht. Ontdek de fascinerende wereld van de menselijke anatomie\, van hersenen tot complete lichamen. \nWanneer: Woensdag 7 mei 2025\nWaar: UMC Utrecht\, Heidelberglaan 100\nKosten: ± €25 per persoon\nMax. deelnemers: 16 Oxytoc leden \nInschrijven kan tot 25 april 12:00\, dus schrijf je snel in!\nWees er snel bij\, want vol = vol! Klik hier voor meer details en inschrijven.
URL:https://svoxytoc.nl/event/snijzaal/
LOCATION:Anatomiegebouw Utrecht\, Bekkerstraat 141\, Utrecht\, Zuid-Holland\, 3572SG\, Netherlands
END:VEVENT
BEGIN:VEVENT
DTSTART;TZID=Europe/Paris:20250508T080000
DTEND;TZID=Europe/Paris:20250508T170000
DTSTAMP:20260423T125034
CREATED:20250508T102637Z
LAST-MODIFIED:20250508T102637Z
UID:1582-1746691200-1746723600@svoxytoc.nl
SUMMARY:Bounce valley
DESCRIPTION:Wil jij jouw innerlijke kind weer naar boven halen? Kom dan gezellig met Oxytoc mee jumpen bij Bounce Valley! Op donderdag 15 mei om 16:30 gaan wij voor 1\,5 uur racen over obstakelbanen\, chillen in de soft play zone of gewoon alles er lekker uit springen. En het mooie eraan is dat je de hele avond gratis ranja kunt halen en de jumpsokken hoef je zelf niet te regelen 🙂 \nMeld je snel hier aan want VOL=VOL! \nWelke dag: 15-05-2025\nWanneer: 16:30\nWaar: Bounce Valley\, Colosseum 70\, Enschede\nWat kost het: \n\nLeden €8\,-\nNiet leden €9\,85
URL:https://svoxytoc.nl/event/bounce-valley/
LOCATION:Bounce Valley\, Colosseum 70\, Enschede\, Overijssel\, 7521 PT
END:VEVENT
BEGIN:VEVENT
DTSTART;TZID=Europe/Paris:20250520T200000
DTEND;TZID=Europe/Paris:20250521T020000
DTSTAMP:20260423T125034
CREATED:20250425T104802Z
LAST-MODIFIED:20250425T104802Z
UID:1551-1747771200-1747792800@svoxytoc.nl
SUMMARY:Piraten Party met Archimedes\, Elucido en Hysteria
DESCRIPTION:Aye aye\, landrotten en zeeschuimers!\nHijs de zeilen en maak je klaar voor de grote Piraten Party op dinsdag 20 mei! Kom vanaf 20:00 samen genieten met Elucido\, Archimedes en Hysteria van eindeloze rum en piratenhits in de Generaal!\nTrek je beste ooglapje aan\, poets je houten poot en kom feesten als een echte kapitein van de zeven zeeën! \nWelke dag: 20-05-2025\nWanneer: 20:00\nWaar: De Generaal
URL:https://svoxytoc.nl/event/piraten-party-met-archimedes-elucido-en-hysteria/
LOCATION:HBO sociëteit Enschede\, Stadsgravenstraat 41-43\, Enschede\, Overijssel\, 7511 EJ\, Netherlands
END:VEVENT
END:VCALENDAR