BEGIN:VCALENDAR
VERSION:2.0
PRODID:-//S.V. Oxytoc - ECPv6.15.20//NONSGML v1.0//EN
CALSCALE:GREGORIAN
METHOD:PUBLISH
X-WR-CALNAME:S.V. Oxytoc
X-ORIGINAL-URL:https://svoxytoc.nl
X-WR-CALDESC:Evenementen voor S.V. Oxytoc
REFRESH-INTERVAL;VALUE=DURATION:PT1H
X-Robots-Tag:noindex
X-PUBLISHED-TTL:PT1H
BEGIN:VTIMEZONE
TZID:Europe/Paris
BEGIN:DAYLIGHT
TZOFFSETFROM:+0100
TZOFFSETTO:+0200
TZNAME:CEST
DTSTART:20240331T010000
END:DAYLIGHT
BEGIN:STANDARD
TZOFFSETFROM:+0200
TZOFFSETTO:+0100
TZNAME:CET
DTSTART:20241027T010000
END:STANDARD
BEGIN:DAYLIGHT
TZOFFSETFROM:+0100
TZOFFSETTO:+0200
TZNAME:CEST
DTSTART:20250330T010000
END:DAYLIGHT
BEGIN:STANDARD
TZOFFSETFROM:+0200
TZOFFSETTO:+0100
TZNAME:CET
DTSTART:20251026T010000
END:STANDARD
BEGIN:DAYLIGHT
TZOFFSETFROM:+0100
TZOFFSETTO:+0200
TZNAME:CEST
DTSTART:20260329T010000
END:DAYLIGHT
BEGIN:STANDARD
TZOFFSETFROM:+0200
TZOFFSETTO:+0100
TZNAME:CET
DTSTART:20261025T010000
END:STANDARD
END:VTIMEZONE
BEGIN:VEVENT
DTSTART;TZID=Europe/Paris:20250312T080000
DTEND;TZID=Europe/Paris:20250314T190000
DTSTAMP:20260423T164252
CREATED:20241114T142228Z
LAST-MODIFIED:20241118T111701Z
UID:675-1741766400-1741978800@svoxytoc.nl
SUMMARY:Excursiedagen 24/25
DESCRIPTION:De jaarlijkse Oxytoc excursiedagen komen er weer aan! Vorig jaar is er een hele gezellige excursie geweest en dit jaar gaan we dat zeker herhalen. De commissie is dan ook alweer druk bezig met het organiseren van de excursiedagen van 2025 waarbij we op bezoek gaan in Groningen. Naast dat dit een goede mogelijkheid voor werkveldexploratie is\, is dit ook een kans om je studiegenoten beter te \nleren kennen. Tijdens deze drie daagse excursie welke zal plaatsvinden op 12\, 13 en 14 maart zijn er veel interessante bedrijfsbezoeken georganiseerd en zijn er daarnaast ook nog andere leuke activiteiten geregeld. De kosten bedragen €85\,- euro voor leden en €95\,- voor niet leden\, dit is inclusief overnachting\, avondeten\, ontbijt en activiteiten. Je eigen kosten bedragen nog het vervoer en de consumpties tijdens de activiteiten. Aanmelden kan uiterlijk tot 6 december\, de uiterlijke afmelddatum staat ook op deze datum. \nKlik hier om je aan te melden
URL:https://svoxytoc.nl/event/excursiedagen-24-25/
LOCATION:Groningen\, Groningen\, Netherlands
END:VEVENT
BEGIN:VEVENT
DTSTART;TZID=Europe/Paris:20250324T150000
DTEND;TZID=Europe/Paris:20250324T170000
DTSTAMP:20260423T164252
CREATED:20250320T104957Z
LAST-MODIFIED:20250320T104957Z
UID:1512-1742828400-1742835600@svoxytoc.nl
SUMMARY:Bedrijfsbezoek EMI Twente
DESCRIPTION:Aankomende maandag gaan we op bedrijfsbezoek bij EMI Twente\, een toonaangevend bedrijf in membraantechnologie en innovatieve scheidingsprocessen. Dit bedrijf loopt voorop als het gaat om de ontwikkeling en optimalisatie van membranen voor diverse toepassingen\, van waterzuivering tot gasafscheiding.\nMis deze kans niet en meld je snel aan om de wereld van membraantechnologie te ontdekken en in een workshop te leren hoe je een membraan maakt! \nKlik hier om je aan te melden!
URL:https://svoxytoc.nl/event/bedrijfsbezoek-emi-twente/
LOCATION:EMI Twente\, Drienerlolaan 5\, Enschede\, Overijssel\, 7522 LW\, Netherlands
END:VEVENT
END:VCALENDAR