BEGIN:VCALENDAR
VERSION:2.0
PRODID:-//S.V. Oxytoc - ECPv6.15.20//NONSGML v1.0//EN
CALSCALE:GREGORIAN
METHOD:PUBLISH
X-WR-CALNAME:S.V. Oxytoc
X-ORIGINAL-URL:https://svoxytoc.nl
X-WR-CALDESC:Evenementen voor S.V. Oxytoc
REFRESH-INTERVAL;VALUE=DURATION:PT1H
X-Robots-Tag:noindex
X-PUBLISHED-TTL:PT1H
BEGIN:VTIMEZONE
TZID:Europe/Paris
BEGIN:DAYLIGHT
TZOFFSETFROM:+0100
TZOFFSETTO:+0200
TZNAME:CEST
DTSTART:20230326T010000
END:DAYLIGHT
BEGIN:STANDARD
TZOFFSETFROM:+0200
TZOFFSETTO:+0100
TZNAME:CET
DTSTART:20231029T010000
END:STANDARD
BEGIN:DAYLIGHT
TZOFFSETFROM:+0100
TZOFFSETTO:+0200
TZNAME:CEST
DTSTART:20240331T010000
END:DAYLIGHT
BEGIN:STANDARD
TZOFFSETFROM:+0200
TZOFFSETTO:+0100
TZNAME:CET
DTSTART:20241027T010000
END:STANDARD
BEGIN:DAYLIGHT
TZOFFSETFROM:+0100
TZOFFSETTO:+0200
TZNAME:CEST
DTSTART:20250330T010000
END:DAYLIGHT
BEGIN:STANDARD
TZOFFSETFROM:+0200
TZOFFSETTO:+0100
TZNAME:CET
DTSTART:20251026T010000
END:STANDARD
BEGIN:DAYLIGHT
TZOFFSETFROM:+0100
TZOFFSETTO:+0200
TZNAME:CEST
DTSTART:20260329T010000
END:DAYLIGHT
BEGIN:STANDARD
TZOFFSETFROM:+0200
TZOFFSETTO:+0100
TZNAME:CET
DTSTART:20261025T010000
END:STANDARD
END:VTIMEZONE
BEGIN:VEVENT
DTSTART;TZID=Europe/Paris:20250417T210000
DTEND;TZID=Europe/Paris:20250418T010000
DTSTAMP:20260420T175953
CREATED:20250320T105750Z
LAST-MODIFIED:20250320T105750Z
UID:1517-1744923600-1744938000@svoxytoc.nl
SUMMARY:HBO Gala
DESCRIPTION:HBO Gala Enschede – 17 april 2025 \nKom op 17 april naar hét gala van het jaar – het HBO Gala Enschede! Beleef een onvergetelijke avond in Panache Enschede\, met geweldige muziek en een fantastische sfeer! ???? \nTickets: €34\,99 voor leden | €40\,99 voor niet-leden\nVoorverkoop: Start op 26 maart om 12:00 – 14:00 bij de Bakery in het Saxion-hoofdgebouw. Card only!\nOnline: Vanaf 27 maart\, €42\,50\nInloop: 21:00 – 22:00 | Einde: 01:00\nAfterparty: Vanaf 01:00 in De Generaal \nMis het niet en zorg dat je erbij bent! Maximaal 4 tickets per persoon! \n#HBOGalaEnschede #SaveTheDate #PartyTime
URL:https://svoxytoc.nl/event/hbo-gala/
LOCATION:Panache\, Bolwerkstraat 2\, Enschede\, Overijssel\, 7511 GP\, Netherlands
END:VEVENT
BEGIN:VEVENT
DTSTART;TZID=Europe/Paris:20250416T150000
DTEND;TZID=Europe/Paris:20250416T190000
DTSTAMP:20260420T175953
CREATED:20250415T105446Z
LAST-MODIFIED:20250415T105446Z
UID:1543-1744815600-1744830000@svoxytoc.nl
SUMMARY:
DESCRIPTION:Heb jij vragen of wil jij studeren voor tentamens\, het labjournaal of huiswerk? Kom dan naar de Oxytoc studieavond op woensdag 16 april vanaf 15:00! Je bent vrij om te komen en gaan wanneer jij zelf wilt en ook als je een lab-dag hebt gehad ben je van harte welkom! Ben jij er om 15:00 of wil je na het lab gezellig mee eten? Dan krijg je rond 17:00 avondeten van Oh My Grill voor maar €5\,-! Tegen die tijd zal er een poll\, met de keuzes voor het eten\, in de app worden gestuurd. Dus kom lekker langs voor een leerzame en gezellige avond!???? \nWelke dag: 16-04-2025\nWanneer: Vanaf 15:00\nWaar: OTSWO S4
URL:https://svoxytoc.nl/event/1543/
LOCATION:OTSWO S4
END:VEVENT
BEGIN:VEVENT
DTSTART;TZID=Europe/Paris:20250407T200000
DTEND;TZID=Europe/Paris:20250407T235900
DTSTAMP:20260420T175953
CREATED:20250320T104516Z
LAST-MODIFIED:20250320T104516Z
UID:1510-1744056000-1744070340@svoxytoc.nl
SUMMARY:Oxytoc Pubquiz
DESCRIPTION:Begin de week goed met de Oxytoc Pubquiz! Heb jij op maandagavond 7 april nog niks te doen? \n Kom dan naar de Oxytoc Pubquiz en trap de week af met een gezellige en spannende quizavond. Test je kennis op het gebied van algemene weetjes\, muziek\, film\, wetenschap en nog veel meer! \nVoor maar €5\,- doe jij al mee aan de Pubquiz en krijg je één GRATIS consumptiemunt! Voor de winnaars hebben wij natuurlijk een geweldige prijs gehaald. De deuren zullen o \nm 20:00 open gaan en de Pubquiz zal beginnen om 20:30! \nDe entreeprijs wordt betaald bij binnenkomst en de teams zullen ter plekke gemaakt worden. \nWelke dag: 07-04-2025\nWanneer: 20:00\nWaar: De Generaal\nWat betaal ik: €5\,
URL:https://svoxytoc.nl/event/oxytoc-pubquiz/
LOCATION:HBO sociëteit Enschede\, Stadsgravenstraat 41-43\, Enschede\, Overijssel\, 7511 EJ\, Netherlands
END:VEVENT
BEGIN:VEVENT
DTSTART;TZID=Europe/Paris:20250403T160000
DTEND;TZID=Europe/Paris:20250403T180000
DTSTAMP:20260420T175953
CREATED:20250320T105220Z
LAST-MODIFIED:20250320T105220Z
UID:1515-1743696000-1743703200@svoxytoc.nl
SUMMARY:Interesseborrel
DESCRIPTION:Ben jij na de excursiedagen nou benieuwd geworden hoe onze activiteiten georganiseerd worden? Kom dan op donderdag 3 april vanaf 16:00 naar de interesse borrel van Oxytoc op de OTSWO van S4! Hier kan je onder het genot van een gratis drankje al je vragen stellen over de verschillende commissies en de bestuursfuncties. Of kom gewoon langs voor de gezelligheid!\nOok zal er een mogelijkheid zijn om samen avondeten te bestellen.\nHopelijk zien wij jullie dan! \nWelke dag: 03-04-2025\nWanneer: 16:00\nWaar: OTSWO S4
URL:https://svoxytoc.nl/event/interesseborrel-2/
LOCATION:OTSWO S4
END:VEVENT
BEGIN:VEVENT
DTSTART;TZID=Europe/Paris:20250324T150000
DTEND;TZID=Europe/Paris:20250324T170000
DTSTAMP:20260420T175953
CREATED:20250320T104957Z
LAST-MODIFIED:20250320T104957Z
UID:1512-1742828400-1742835600@svoxytoc.nl
SUMMARY:Bedrijfsbezoek EMI Twente
DESCRIPTION:Aankomende maandag gaan we op bedrijfsbezoek bij EMI Twente\, een toonaangevend bedrijf in membraantechnologie en innovatieve scheidingsprocessen. Dit bedrijf loopt voorop als het gaat om de ontwikkeling en optimalisatie van membranen voor diverse toepassingen\, van waterzuivering tot gasafscheiding.\nMis deze kans niet en meld je snel aan om de wereld van membraantechnologie te ontdekken en in een workshop te leren hoe je een membraan maakt! \nKlik hier om je aan te melden!
URL:https://svoxytoc.nl/event/bedrijfsbezoek-emi-twente/
LOCATION:EMI Twente\, Drienerlolaan 5\, Enschede\, Overijssel\, 7522 LW\, Netherlands
END:VEVENT
BEGIN:VEVENT
DTSTART;TZID=Europe/Paris:20250312T080000
DTEND;TZID=Europe/Paris:20250314T190000
DTSTAMP:20260420T175953
CREATED:20241114T142228Z
LAST-MODIFIED:20241118T111701Z
UID:675-1741766400-1741978800@svoxytoc.nl
SUMMARY:Excursiedagen 24/25
DESCRIPTION:De jaarlijkse Oxytoc excursiedagen komen er weer aan! Vorig jaar is er een hele gezellige excursie geweest en dit jaar gaan we dat zeker herhalen. De commissie is dan ook alweer druk bezig met het organiseren van de excursiedagen van 2025 waarbij we op bezoek gaan in Groningen. Naast dat dit een goede mogelijkheid voor werkveldexploratie is\, is dit ook een kans om je studiegenoten beter te \nleren kennen. Tijdens deze drie daagse excursie welke zal plaatsvinden op 12\, 13 en 14 maart zijn er veel interessante bedrijfsbezoeken georganiseerd en zijn er daarnaast ook nog andere leuke activiteiten geregeld. De kosten bedragen €85\,- euro voor leden en €95\,- voor niet leden\, dit is inclusief overnachting\, avondeten\, ontbijt en activiteiten. Je eigen kosten bedragen nog het vervoer en de consumpties tijdens de activiteiten. Aanmelden kan uiterlijk tot 6 december\, de uiterlijke afmelddatum staat ook op deze datum. \nKlik hier om je aan te melden
URL:https://svoxytoc.nl/event/excursiedagen-24-25/
LOCATION:Groningen\, Groningen\, Netherlands
END:VEVENT
BEGIN:VEVENT
DTSTART;TZID=Europe/Paris:20250227T210000
DTEND;TZID=Europe/Paris:20250228T033000
DTSTAMP:20260420T175953
CREATED:20250213T154900Z
LAST-MODIFIED:20250214T160720Z
UID:1471-1740690000-1740713400@svoxytoc.nl
SUMMARY:HBO feest - Temptation Weiland
DESCRIPTION:Temptation Weiland – HBO Feest! \nOp donderdag 27 februari is het zover: het Temptation Weiland HBO Feest in De Generaal! Een avond vol verleiding\, boerencharme en feest tot in de vroege uurtjes! \nLocatie: De Generaal (Stadsgravenstraat 41-43)\nTijd: 21:00 – 04:00\nToegang: gratis \nActies:\n– 21:00 – 00:00: 3 mixdrankjes voor 5 munten\n– 00:00 – 04:00: Shotjes stapelkorting: 3+1\, 5+2\, 7+3 \nTrek je beste boerenoutfit aan\, laat je verleiden en feest alsof het weiland van jou is!
URL:https://svoxytoc.nl/event/hbo-feest-temptation-weiland/
LOCATION:HBO sociëteit Enschede\, Stadsgravenstraat 41-43\, Enschede\, Overijssel\, 7511 EJ\, Netherlands
END:VEVENT
BEGIN:VEVENT
DTSTART;TZID=Europe/Paris:20250226T194500
DTEND;TZID=Europe/Paris:20250226T223000
DTSTAMP:20260420T175953
CREATED:20250203T141938Z
LAST-MODIFIED:20250203T142338Z
UID:1446-1740599100-1740609000@svoxytoc.nl
SUMMARY:Lasergamen met Archimedes
DESCRIPTION:Oxytoc en Archimedes bundelen hun krachten voor een onvergetelijke avond! Kom op woensdag 26 februari naar De Tapperij in Hengelo en geniet van een combinatie van lasergamen en poolen\, terwijl je 2 uur lang onbeperkt kunt drinken aan de tap. \nVan 19:45 tot 22:30 gaan we helemaal los met actie en gezelligheid. De kosten zijn slechts €25 per persoon\, dus zorg dat je erbij bent! Mis deze epische avond niet – meld je snel aan en beleef samen een topavond vol plezier en competitie!\nLet op\, VOL=VOL \nAanmelden: https://www.svarchimedes.nl/activiteiten/lasergamen-en-poolen-met-oxytoc\n(Bij aanmelden\, kies de optie gast) \nWelke dag: Woensdag 26 februari\nWanneer: 19:45\nWaar: De Tapperij\, pastoriestraat 33 Hengelo\nWelke prijs: €25\,
URL:https://svoxytoc.nl/event/lasergamen-met-archimedes/
LOCATION:De Tapperij\, Pastoriestraat 33\, Hengelo\, Overijssel\, 7551DJ\, Netherlands
END:VEVENT
BEGIN:VEVENT
DTSTART;TZID=Europe/Paris:20250220T173000
DTEND;TZID=Europe/Paris:20250220T193000
DTSTAMP:20260420T175953
CREATED:20250203T142831Z
LAST-MODIFIED:20250203T142831Z
UID:1451-1740072600-1740079800@svoxytoc.nl
SUMMARY:Bedrijfsbezoek: Labmicta
DESCRIPTION:Lieve leden\,Het is weer zover! Op woensdag 20 februari staat er vanaf 17:30 een bedrijfsbezoek bij Labmicta. Labmicta is gespecialiseerd in onderzoek naar infecties\, de diagnoses ervan en hoe deze gepreventeerd kunnen worden. Dit bezoek zal zeker interresant zijn voor de BML studenten onder ons maar de chemie studenten kunnen hier ook genoeg leren. Schrijf je dus snel in want voordat je het weet zitten de plekken vol. \nAanmelden Bedrijfsbezoek Labmicta 24/25
URL:https://svoxytoc.nl/event/bedrijfsbezoek-labmicta/
LOCATION:ZGT Hengelo\, Boerhaavelaan 59\,\, Hengelo\, Overijssel\, 7555 BB\, Netherlands
END:VEVENT
BEGIN:VEVENT
DTSTART;TZID=Europe/Paris:20250211T200000
DTEND;TZID=Europe/Paris:20250212T000000
DTSTAMP:20260420T175953
CREATED:20250127T113738Z
LAST-MODIFIED:20250127T113738Z
UID:1435-1739304000-1739318400@svoxytoc.nl
SUMMARY:Valentijnsborrel
DESCRIPTION:De liefde hangt weer in de lucht en dit betekend dat Valentijnsdag weer voor de deur staat. Kom dinsdag 11 februari gezellig de liefde vieren met Oxytoc bij de Admiraal vanaf 20:00! En wie weet vind jij wel de liefde van je leven 😉 \nWelke dag: Dinsdag 11 februari\nWanneer: 20:00\nWaar: De Admiraal\, Enschede
URL:https://svoxytoc.nl/event/valentijnsborrel/
LOCATION:HBO sociëteit Enschede\, Stadsgravenstraat 41-43\, Enschede\, Overijssel\, 7511 EJ\, Netherlands
END:VEVENT
BEGIN:VEVENT
DTSTART;TZID=Europe/Paris:20250123T200000
DTEND;TZID=Europe/Paris:20250123T220000
DTSTAMP:20260420T175953
CREATED:20250107T131645Z
LAST-MODIFIED:20250113T134032Z
UID:1117-1737662400-1737669600@svoxytoc.nl
SUMMARY:Schaatsen met Oxytoc
DESCRIPTION:Wil jij weer even alle stress kwijtraken? Kom op donderdag 23 januari mee schaatsen met Oxytoc en maak even je hoofd leeg. \nOf je nu soepel over het ijs zoeft of vooral voor de warme chocolademelk komt\, dit wil je niet missen! Om 20:00 betreden wij het ijs en gaan wij er een gezellige avond van maken \nMeld je snel aan want VOL=VOL \nKlik hier om je aan te melden \nWanneer: Donderdag 23 januari 2025\nHoelaat: 20:00\nWaar: IJsbaan Twente\, Colosseum 90 Enschede\nKosten: Leden €6\,50\nNiet leden €7\,50
URL:https://svoxytoc.nl/event/1117/
LOCATION:Ijsbaan Twente\, Colosseum 90\, Enschede\, Overijssel\, 7521PT\, Netherlands
END:VEVENT
BEGIN:VEVENT
DTSTART;TZID=Europe/Paris:20250122T131500
DTEND;TZID=Europe/Paris:20250122T190000
DTSTAMP:20260420T175953
CREATED:20250109T092355Z
LAST-MODIFIED:20250109T092355Z
UID:1137-1737551700-1737572400@svoxytoc.nl
SUMMARY:Studiemiddag
DESCRIPTION:Heb jij vragen of wil jij studeren voor tentamens\, het labjournaal of huiswerk? Kom dan naar de Oxytoc studiemiddag op woensdag 22 januari vanaf 13:15. Je bent vrij om te komen en gaan wanneer jij zelf wilt. Ben jij er voor 16:00? Dan krijg je rond 17:30 pizza’s voor maar €3\,- \nDus kom lekker langs voor een leerzame en gezellige middag!\nDatum: 22-01-2025\nTijd: vanaf 13:15\nLocatie: OTSWO S4
URL:https://svoxytoc.nl/event/studiemiddag/
LOCATION:OTSWO S4
END:VEVENT
BEGIN:VEVENT
DTSTART;TZID=Europe/Paris:20250120T143000
DTEND;TZID=Europe/Paris:20250120T160000
DTSTAMP:20260420T175953
CREATED:20250107T164524Z
LAST-MODIFIED:20250107T164524Z
UID:1129-1737383400-1737388800@svoxytoc.nl
SUMMARY:Bedrijfsbezoek Uzin Utz 24/25
DESCRIPTION:Op maandag 20 januari is er een bedrijfsbezoek gepland bij Uzin Utz in Haaksbergen. Uzin Utz is een bedrijf dat verschillende vloeren op maat maakt\, zoals dekvloeren en gietvloeren\, dus dit is super interessant voor de chemisten die geïnteresseerd zijn in polymeer chemie\, maar ook BML studenten zijn van harte welkom. \nVanaf 14:30 uur zijn wij welkom bij Uzin Utz op de Bouwstraat 18 in Haaksbergen. Lijkt het jou ook leuk om deel te nemen aan een rondleiding bij Uzin Utz meld je dan nu aan! \nKlik hier om je aan te melden.
URL:https://svoxytoc.nl/event/bedrijfsbezoek-uzin-utz-24-25/
LOCATION:Uzin Utz\, Bouwstraat 18\, Haaksbergen\, Overijssel\, 7483PA\, Netherlands
END:VEVENT
BEGIN:VEVENT
DTSTART;TZID=Europe/Paris:20250107T160000
DTEND;TZID=Europe/Paris:20250107T190000
DTSTAMP:20260420T175953
CREATED:20250103T151949Z
LAST-MODIFIED:20250103T152307Z
UID:1107-1736265600-1736276400@svoxytoc.nl
SUMMARY:Bedrijfsbezoek Unilabs 24/25
DESCRIPTION:Het is weer zover! Op 7 januari om 16:00 staat er weer een bedrijfsbezoek bij Unilabs\, dit bedrijf is gespecialiseerd in onderzoek naar infecties\, de diagnoses ervan en hoe deze gepreventeerd kunnen worden. Dit bezoek zal zeker interessant zijn voor de BML studenten onder ons maar de chemiestudent kan hier ook veel van leren. Dus schrijf je snel in want voordat je het weet zitten de plekken vol.\nKlik hier om je aan te melden
URL:https://svoxytoc.nl/event/bedrijfsbezoek-unilabs-24-25/
LOCATION:Unilabs Enschede\, Koningstraat 1\, Enschede\, Overijssel\, 7512KZ\, Netherlands
END:VEVENT
BEGIN:VEVENT
DTSTART;TZID=Europe/Paris:20241220T160000
DTEND;TZID=Europe/Paris:20241220T233000
DTSTAMP:20260420T175953
CREATED:20241125T123641Z
LAST-MODIFIED:20241125T123641Z
UID:795-1734710400-1734737400@svoxytoc.nl
SUMMARY:Kerstborrel
DESCRIPTION:De kerstdagen beginnen bijna en dat betekent dat het weer tijd is voor de kerstborrel! Op vrijdag 20 december zullen wij de kerstvakantie goed beginnen met een gezellige kerstborrel bij de Admiraal. Vanaf 16:00 zijn jullie welkom om een lekkere kop chocomelk\, een heerlijk biertje of een goed glas wijn te komen drinken! Dus trek je foute kersttrui uit de kast en kom gezellig langs om de kerstdagen goed te beginnen! \nDatum: 20-12-2024\nTijd: 16:00\nLocatie: De Admiraal
URL:https://svoxytoc.nl/event/kerstborrel/
LOCATION:HBO sociëteit Enschede\, Stadsgravenstraat 41-43\, Enschede\, Overijssel\, 7511 EJ\, Netherlands
END:VEVENT
BEGIN:VEVENT
DTSTART;TZID=Europe/Paris:20241212T210000
DTEND;TZID=Europe/Paris:20241213T020000
DTSTAMP:20260420T175953
CREATED:20241203T181358Z
LAST-MODIFIED:20241203T181358Z
UID:912-1734037200-1734055200@svoxytoc.nl
SUMMARY:Sleep Till Dawn - HBO Pyjama Party
DESCRIPTION:Sleep Till Dawn – HBO Pyjama Party op 12 december! \nOp dinsdag 12 december gaan we in De Generaal los met de ultieme Sleep Till Dawn pyjama party! Kom vanaf 21:00 in je meest comfortabele (of meest bizarre) pyjama\, en bereid je voor op een nacht vol gezelligheid\, feesten en verrassingen. Van fluffy onesies tot badjassen en slaapmaskers – alles kan en alles mag! \nWat kun je verwachten? \nNachtelijke shot-acties om je energie op peil te houden!\nDe beste feestmuziek om door te knallen tot 04:00!\nEn een hele zaal vol gezellige mensen in hun chillste outfit!\nTrek dus je slaapoutfit aan en maak je klaar om tot het ochtendgloren door te feesten! Mis de gekste HBO-party van het jaar niet!
URL:https://svoxytoc.nl/event/sleep-till-dawn-hbo-pyjama-party/
LOCATION:HBO sociëteit Enschede\, Stadsgravenstraat 41-43\, Enschede\, Overijssel\, 7511 EJ\, Netherlands
END:VEVENT
BEGIN:VEVENT
DTSTART;TZID=Europe/Paris:20241203T180000
DTEND;TZID=Europe/Paris:20241203T230000
DTSTAMP:20260420T175953
CREATED:20241118T122120Z
LAST-MODIFIED:20241118T122120Z
UID:738-1733248800-1733266800@svoxytoc.nl
SUMMARY:Sinterklaas dobbelspel
DESCRIPTION:Sinterklaas is alweer in het land en dat betekend dat pakjesavond ook steeds dichterbij komt. Daarom organiseert Oxytoc op dinsdag 3 december\, op de OTSWO van S4\, een sinterklaas dobbelspel\, waarbij er leuke cadeaus te winnen zijn. Vanaf 17:00 zal de inloop zijn en om 17:30 begint het dobbelspel!\nWij zorgen dat er drinken en wat lekkers staat en dan hopen wij jullie dinsdag 3 december te zien!\nOok zal er ook een mogelijkheid zijn om samen avondeten te bestellen. Het avondeten zal wel voor eigenkosten zijn. \nAanmelden Sinterklaas dobbelspel + keuze avondeten \nWanneer: 03-12-2024\, 17:00\nWaar: OTSWO S4
URL:https://svoxytoc.nl/event/sinterklaas-dobbelspel/
LOCATION:Zuid-Holland
END:VEVENT
BEGIN:VEVENT
DTSTART;TZID=Europe/Paris:20241125T080000
DTEND;TZID=Europe/Paris:20241125T170000
DTSTAMP:20260420T175953
CREATED:20241125T155248Z
LAST-MODIFIED:20241125T155248Z
UID:805-1732521600-1732554000@svoxytoc.nl
SUMMARY:Interesseborrel
DESCRIPTION:Aankomende woensdag is het alweer tijd voor de interesseborrel. Kom onder het genot van gratis drankjes al je vragen stellen die jij hebt over een bestuursfunctie of commissie. Of kom gewoon langs voor een gezellige middag!\nEr zal ook nog een mogelijkheid zijn om gezamenlijk avondeten te bestellen. (Het avondeten is wel voor eigen kosten)\nWij hopen jullie woensdag vanaf 16:00 op de OTSWO van S4 te zien!
URL:https://svoxytoc.nl/event/interesseborrel/
LOCATION:OTSWO S4
END:VEVENT
BEGIN:VEVENT
DTSTART;TZID=Europe/Paris:20241121T220000
DTEND;TZID=Europe/Paris:20241122T010000
DTSTAMP:20260420T175953
CREATED:20241107T115136Z
LAST-MODIFIED:20241113T125746Z
UID:610-1732226400-1732237200@svoxytoc.nl
SUMMARY:Foute party
DESCRIPTION:Trek je foutste outfit aan\, want het is tijd voor een FOUTE PARTY \nSamen met Construct en LiNK gaat het een avond vol foute hits\, hilarische outfits en een onvergetelijke sfeer zijn en dit wil je zeker niet missen! \nKom lachen\, dansen en uit je dak gaan op de foutste hits! \nWanneer: 21 november 2024\nHoe laat: 21:00\nWaar: De Generaal
URL:https://svoxytoc.nl/event/foute-party/
LOCATION:HBO sociëteit Enschede\, Stadsgravenstraat 41-43\, Enschede\, Overijssel\, 7511 EJ\, Netherlands
END:VEVENT
BEGIN:VEVENT
DTSTART;TZID=Europe/Paris:20241114T200000
DTEND;TZID=Europe/Paris:20241115T010000
DTSTAMP:20260420T175953
CREATED:20241107T115757Z
LAST-MODIFIED:20241113T115453Z
UID:612-1731614400-1731632400@svoxytoc.nl
SUMMARY:Poolavond
DESCRIPTION:Volgende week donderdag staat het poolen met Watt alweer op de agenda! Om ervoor te zorgen dat jullie niet hongerig aankomen bij het poolen\, willen wij met jullie voor de tijd gezellig pizza eten. De pizza’s zullen door ons besteld worden\, maar deze zijn wel voor eigen kosten (€6\,-). De pizza’s zullen rond 18:00 bezorgd worden en via onderstaande link kun je jouw pizza keuze doorgeven.\nHopelijk zien wij jullie dan! \nPizza keuze \nEn heb jij je nog niet aangemeld voor het poolen? Dat kan via de volgende link https://Svwatt.com/poolen
URL:https://svoxytoc.nl/event/poolavond/
LOCATION:Poolcafé “The Bridge”\, Oude Markt 9-A\, Enschede\, Overijssel\, 7511 GA\, Netherlands
END:VEVENT
BEGIN:VEVENT
DTSTART;TZID=Europe/Paris:20241107T220000
DTEND;TZID=Europe/Paris:20241108T010000
DTSTAMP:20260420T175954
CREATED:20241107T114736Z
LAST-MODIFIED:20241107T114736Z
UID:604-1731016800-1731027600@svoxytoc.nl
SUMMARY:HBO party: Cheers all Year; the holidays are here!
DESCRIPTION:????Op 7 november is het weer tijd voor een knallend HBO-feest in De Generaal! “Cheers all year\, the holidays are here!” ????✨Deze avond vieren we elke feestdag die Nederland rijk is\, allemaal in één groot feest! \nTrek je Kersttrui aan\, versier jezelf als een paasei of kom als een compleet carnavalsteam???????? Wie weet kom je wel als Sinterklaas of misschien juist als een verloren Koningsdag-vierder die nog steeds z’n oranje outfit draagt!???????? En zeg\, heb je nog een oud en nieuwbril liggen van 2022? Trek ‘m aan\, want het is tijd om elke feestdag in één avond te proosten!???????? \nKom erbij\, dans op de carnavalskrakers en zing uit volle borst je favoriete Sinterklaasliedjes. Dit wordt een feest om nooit te vergeten!???? Mis dit niet en zorg dat je er klaar voor bent om het hele jaar door feest te vieren… in slechts één nacht!???? \n????: 07-11-2024\n????: 21:00\n????: De Generaal\, Enschede
URL:https://svoxytoc.nl/event/hbo-party-cheers-all-year-the-holidays-are-here/
LOCATION:HBO sociëteit Enschede\, Stadsgravenstraat 41-43\, Enschede\, Overijssel\, 7511 EJ\, Netherlands
END:VEVENT
BEGIN:VEVENT
DTSTART;TZID=Europe/Paris:20241022T210000
DTEND;TZID=Europe/Paris:20241023T005900
DTSTAMP:20260420T175954
CREATED:20241007T175214Z
LAST-MODIFIED:20241007T175350Z
UID:416-1729630800-1729645140@svoxytoc.nl
SUMMARY:Speciaalbier borrel
DESCRIPTION:De eerste tentamens zitten er net weer op en om even lekker te ontspannen\, organiseert Oxytoc op dinsdag 22 oktober een speciaal bier borrel bij Proeflokaal Enschede? Kom gezellig langs om nieuwe biertjes te proeven en misschien vind jij wel jouw nieuwe favoriete biertje? Jullie zijn welkom vanaf 20:00 en hopelijk zien wij jullie dan!?
URL:https://svoxytoc.nl/event/speciaalbier-borrel/
LOCATION:Proeflokaal Enschede\, Oude Markt 20\, Enschede\, Overijssel\, 7511 GB\, Netherlands
END:VEVENT
BEGIN:VEVENT
DTSTART;TZID=Europe/Paris:20241018T130000
DTEND;TZID=Europe/Paris:20241018T183000
DTSTAMP:20260420T175954
CREATED:20241007T174348Z
LAST-MODIFIED:20241007T174417Z
UID:403-1729256400-1729276200@svoxytoc.nl
SUMMARY:Studiemiddag
DESCRIPTION:Binnenkort is het alweer tijd voor de eerste tentamens en daarom organiseert Oxytoc op vrijdag 18 oktober vanaf 12:00 een studiemiddag? Tijdens deze middag kunnen jullie alleen of samen leren voor de komende tentamens. Je bent vrij om te komen en gaan wanneer jij zelf wilt. Wij zorgen ervoor dat er genoeg eten en drinken staat voor jullie\, dus kom lekker langs voor een leerzame en gezellige middag!?\nHeb jij nog onderwerpen die jij moeilijk vind? Geef het dan door\, zodat dit doorgegeven kan worden aan de docenten die langs komen.
URL:https://svoxytoc.nl/event/403/
LOCATION:H0.03\, M.H. Tromplaan 28\, Enschede\, Overijssel\, 7513 AB\, Netherlands
END:VEVENT
BEGIN:VEVENT
DTSTART;TZID=Europe/Paris:20241010T210000
DTEND;TZID=Europe/Paris:20241011T005900
DTSTAMP:20260420T175954
CREATED:20241007T173531Z
LAST-MODIFIED:20241007T175421Z
UID:393-1728594000-1728608340@svoxytoc.nl
SUMMARY:Oktoberfest
DESCRIPTION:Jetzt geht’s los? Kleed je in je mooiste dirndl of lederhosen en kom op 10 oktober naar de Vluchte om het beste Oktoberfest van het jaar te vieren!? \nSyntaxis\, CEMENTi\, IDent en Oxytoc gaan er weer een mooi feest vol gezelligheid van maken\, dat jij niet wilt missen? \nMeld je nu aan voor maar €7\,50 en krijg een bierpul met het eerste biertje gratis? \nAanmelden ?? Klik hier
URL:https://svoxytoc.nl/event/oktoberfest/
LOCATION:De Vluchte\, Oldenzaalsestraat 153a\, Enschede\, Overijssel\, 7523 AA\, Netherlands
END:VEVENT
BEGIN:VEVENT
DTSTART;TZID=Europe/Paris:20241003T180000
DTEND;TZID=Europe/Paris:20241003T210000
DTSTAMP:20260420T175954
CREATED:20241002T143453Z
LAST-MODIFIED:20241023T112902Z
UID:126-1727978400-1727989200@svoxytoc.nl
SUMMARY:Excursie Grolsch
DESCRIPTION:Lieve leden\,\n \nOp 3 oktober gaat Oxytoc met hun eerste excursie van het jaar naar Grolsch! Grolsch is een bedrijf dat al vanaf 1615 bier brouwt. Tijdens de excursie krijgen we een rondleiding die voor ons gepersonaliseerd is om dieper in te gaan op het laboratoriumwerk\, wel zo interessant met onze achtergrond. Natuurlijk is er ook een proeverij na de rondleiding! \nLet op!!! Er zijn beperkte plekken beschikbaar.\nVOL=VOL \nBen jij er ook bij? Meld je dan snel aan via de link hieronder en dan hopen wij jullie hier te zien! \n  \nhttps://forms.gle/qtvbc3abnvFG9Qdq8
URL:https://svoxytoc.nl/event/excursie-grolsch/
LOCATION:Grolsch Brouwerij\, Brouwerslaan 1\, Enschede\, Overijssel\, 7548 XA\, Netherlands
END:VEVENT
END:VCALENDAR