BEGIN:VCALENDAR
VERSION:2.0
PRODID:-//S.V. Oxytoc - ECPv6.15.20//NONSGML v1.0//EN
CALSCALE:GREGORIAN
METHOD:PUBLISH
X-WR-CALNAME:S.V. Oxytoc
X-ORIGINAL-URL:https://svoxytoc.nl
X-WR-CALDESC:Evenementen voor S.V. Oxytoc
REFRESH-INTERVAL;VALUE=DURATION:PT1H
X-Robots-Tag:noindex
X-PUBLISHED-TTL:PT1H
BEGIN:VTIMEZONE
TZID:Europe/Paris
BEGIN:DAYLIGHT
TZOFFSETFROM:+0100
TZOFFSETTO:+0200
TZNAME:CEST
DTSTART:20240331T010000
END:DAYLIGHT
BEGIN:STANDARD
TZOFFSETFROM:+0200
TZOFFSETTO:+0100
TZNAME:CET
DTSTART:20241027T010000
END:STANDARD
BEGIN:DAYLIGHT
TZOFFSETFROM:+0100
TZOFFSETTO:+0200
TZNAME:CEST
DTSTART:20250330T010000
END:DAYLIGHT
BEGIN:STANDARD
TZOFFSETFROM:+0200
TZOFFSETTO:+0100
TZNAME:CET
DTSTART:20251026T010000
END:STANDARD
BEGIN:DAYLIGHT
TZOFFSETFROM:+0100
TZOFFSETTO:+0200
TZNAME:CEST
DTSTART:20260329T010000
END:DAYLIGHT
BEGIN:STANDARD
TZOFFSETFROM:+0200
TZOFFSETTO:+0100
TZNAME:CET
DTSTART:20261025T010000
END:STANDARD
BEGIN:DAYLIGHT
TZOFFSETFROM:+0100
TZOFFSETTO:+0200
TZNAME:CEST
DTSTART:20270328T010000
END:DAYLIGHT
BEGIN:STANDARD
TZOFFSETFROM:+0200
TZOFFSETTO:+0100
TZNAME:CET
DTSTART:20271031T010000
END:STANDARD
END:VTIMEZONE
BEGIN:VEVENT
DTSTART;TZID=Europe/Paris:20250918T210000
DTEND;TZID=Europe/Paris:20250919T030000
DTSTAMP:20260421T052724
CREATED:20251112T093842Z
LAST-MODIFIED:20251112T093842Z
UID:2161-1758229200-1758250800@svoxytoc.nl
SUMMARY:HBO feest: Working nine 'till wine
DESCRIPTION:
URL:https://svoxytoc.nl/event/hbo-feest-working-nine-till-wine/
LOCATION:HBO sociëteit Enschede\, Stadsgravenstraat 41-43\, Enschede\, Overijssel\, 7511 EJ\, Netherlands
END:VEVENT
BEGIN:VEVENT
DTSTART;TZID=Europe/Paris:20250924T200000
DTEND;TZID=Europe/Paris:20250924T213000
DTSTAMP:20260421T052724
CREATED:20250902T120234Z
LAST-MODIFIED:20250903T120202Z
UID:1784-1758744000-1758749400@svoxytoc.nl
SUMMARY:Bowlen 25/26
DESCRIPTION:Wil jij kennismaken met de studenten en de studie binnen je vereniging en ben je wel in voor een potje bowlen? Kom dan gezellig mee bowlen! Op woensdag 24 september om 20:00 gaan we 1\,5 uur lang striken en gezellig kletsen met elkaar. \nMeld je snel aan\, want VOl=VOl! \nWelke dag: 24-09-2025\nWanneer: 20:00\nWaar: bowling Enschede\, Colosseum 72\nWat kost het: \nLeden: €6\,-\nNiet-leden: €8\,- \nKlik hier om je aan te melden!
URL:https://svoxytoc.nl/event/bowlen-25-26/
LOCATION:Bowling Enschede\, Colosseum 72\, Enschede\, Overijssel\, 7421PT\, Netherlands
END:VEVENT
BEGIN:VEVENT
DTSTART;TZID=Europe/Paris:20251016T200000
DTEND;TZID=Europe/Paris:20251017T030000
DTSTAMP:20260421T052724
CREATED:20251112T093619Z
LAST-MODIFIED:20251112T093619Z
UID:2157-1760644800-1760670000@svoxytoc.nl
SUMMARY:Oktoberfest
DESCRIPTION:
URL:https://svoxytoc.nl/event/oktoberfest-2/
LOCATION:HBO sociëteit Enschede\, Stadsgravenstraat 41-43\, Enschede\, Overijssel\, 7511 EJ\, Netherlands
END:VEVENT
BEGIN:VEVENT
DTSTART;TZID=Europe/Paris:20251104T193000
DTEND;TZID=Europe/Paris:20251104T213000
DTSTAMP:20260421T052724
CREATED:20251112T093326Z
LAST-MODIFIED:20251112T093326Z
UID:2151-1762284600-1762291800@svoxytoc.nl
SUMMARY:Poolen
DESCRIPTION:
URL:https://svoxytoc.nl/event/poolen/
LOCATION:Poolcafé “The Bridge”\, Oude Markt 9-A\, Enschede\, Overijssel\, 7511 GA\, Netherlands
END:VEVENT
BEGIN:VEVENT
DTSTART;TZID=Europe/Paris:20251126T164500
DTEND;TZID=Europe/Paris:20251126T164500
DTSTAMP:20260421T052724
CREATED:20251112T092812Z
LAST-MODIFIED:20251112T092906Z
UID:2146-1764175500-1764175500@svoxytoc.nl
SUMMARY:Bedrijfsbezoek Grolsch
DESCRIPTION:
URL:https://svoxytoc.nl/event/bedrijfsbezoek-grolsch/
LOCATION:Grolsch Brouwerij\, Brouwerslaan 1\, Enschede\, Overijssel\, 7548 XA\, Netherlands
END:VEVENT
BEGIN:VEVENT
DTSTART;TZID=Europe/Paris:20251204T200000
DTEND;TZID=Europe/Paris:20251204T220000
DTSTAMP:20260421T052724
CREATED:20251115T141756Z
LAST-MODIFIED:20251115T141945Z
UID:2212-1764878400-1764885600@svoxytoc.nl
SUMMARY:Muziekbingo
DESCRIPTION:
URL:https://svoxytoc.nl/event/muziekbingo/
LOCATION:Bar bistro Loev\, Oude Markt 3\, Enschede\, Overijssel\, 7511GA\, Netherlands
END:VEVENT
BEGIN:VEVENT
DTSTART;VALUE=DATE:20260311
DTEND;VALUE=DATE:20260315
DTSTAMP:20260421T052724
CREATED:20251112T093146Z
LAST-MODIFIED:20251115T141617Z
UID:2148-1773205200-1773464399@svoxytoc.nl
SUMMARY:Excursiedagen 25/26
DESCRIPTION:
URL:https://svoxytoc.nl/event/excursiedagen-25-26/
LOCATION:Eindhoven\, Netherlands
END:VEVENT
END:VCALENDAR