BEGIN:VCALENDAR
VERSION:2.0
PRODID:-//S.V. Oxytoc - ECPv6.15.20//NONSGML v1.0//EN
CALSCALE:GREGORIAN
METHOD:PUBLISH
X-ORIGINAL-URL:https://svoxytoc.nl
X-WR-CALDESC:Evenementen voor S.V. Oxytoc
REFRESH-INTERVAL;VALUE=DURATION:PT1H
X-Robots-Tag:noindex
X-PUBLISHED-TTL:PT1H
BEGIN:VTIMEZONE
TZID:Europe/Paris
BEGIN:DAYLIGHT
TZOFFSETFROM:+0100
TZOFFSETTO:+0200
TZNAME:CEST
DTSTART:20240331T010000
END:DAYLIGHT
BEGIN:STANDARD
TZOFFSETFROM:+0200
TZOFFSETTO:+0100
TZNAME:CET
DTSTART:20241027T010000
END:STANDARD
BEGIN:DAYLIGHT
TZOFFSETFROM:+0100
TZOFFSETTO:+0200
TZNAME:CEST
DTSTART:20250330T010000
END:DAYLIGHT
BEGIN:STANDARD
TZOFFSETFROM:+0200
TZOFFSETTO:+0100
TZNAME:CET
DTSTART:20251026T010000
END:STANDARD
BEGIN:DAYLIGHT
TZOFFSETFROM:+0100
TZOFFSETTO:+0200
TZNAME:CEST
DTSTART:20260329T010000
END:DAYLIGHT
BEGIN:STANDARD
TZOFFSETFROM:+0200
TZOFFSETTO:+0100
TZNAME:CET
DTSTART:20261025T010000
END:STANDARD
END:VTIMEZONE
BEGIN:VEVENT
DTSTART;TZID=Europe/Paris:20251126T164500
DTEND;TZID=Europe/Paris:20251126T164500
DTSTAMP:20260421T020932
CREATED:20251112T092812Z
LAST-MODIFIED:20251112T092906Z
UID:2146-1764175500-1764175500@svoxytoc.nl
SUMMARY:Bedrijfsbezoek Grolsch
DESCRIPTION:
URL:https://svoxytoc.nl/event/bedrijfsbezoek-grolsch/
LOCATION:Grolsch Brouwerij\, Brouwerslaan 1\, Enschede\, Overijssel\, 7548 XA\, Netherlands
END:VEVENT
END:VCALENDAR