BEGIN:VCALENDAR
VERSION:2.0
PRODID:-//S.V. Oxytoc - ECPv6.15.20//NONSGML v1.0//EN
CALSCALE:GREGORIAN
METHOD:PUBLISH
X-ORIGINAL-URL:https://svoxytoc.nl
X-WR-CALDESC:Evenementen voor S.V. Oxytoc
REFRESH-INTERVAL;VALUE=DURATION:PT1H
X-Robots-Tag:noindex
X-PUBLISHED-TTL:PT1H
BEGIN:VTIMEZONE
TZID:Europe/Paris
BEGIN:DAYLIGHT
TZOFFSETFROM:+0100
TZOFFSETTO:+0200
TZNAME:CEST
DTSTART:20240331T010000
END:DAYLIGHT
BEGIN:STANDARD
TZOFFSETFROM:+0200
TZOFFSETTO:+0100
TZNAME:CET
DTSTART:20241027T010000
END:STANDARD
BEGIN:DAYLIGHT
TZOFFSETFROM:+0100
TZOFFSETTO:+0200
TZNAME:CEST
DTSTART:20250330T010000
END:DAYLIGHT
BEGIN:STANDARD
TZOFFSETFROM:+0200
TZOFFSETTO:+0100
TZNAME:CET
DTSTART:20251026T010000
END:STANDARD
BEGIN:DAYLIGHT
TZOFFSETFROM:+0100
TZOFFSETTO:+0200
TZNAME:CEST
DTSTART:20260329T010000
END:DAYLIGHT
BEGIN:STANDARD
TZOFFSETFROM:+0200
TZOFFSETTO:+0100
TZNAME:CET
DTSTART:20261025T010000
END:STANDARD
END:VTIMEZONE
BEGIN:VEVENT
DTSTART;TZID=Europe/Paris:20250617T193000
DTEND;TZID=Europe/Paris:20250617T213000
DTSTAMP:20260423T124223
CREATED:20250611T101256Z
LAST-MODIFIED:20250611T101311Z
UID:1659-1750188600-1750195800@svoxytoc.nl
SUMMARY:Karten: van labjas naar racepak
DESCRIPTION:Wil jij de Max Verstappen worden van Oxytoc? Kom dan op dinsdag 17 juni mee karten! Stap in\, geef gas en laat iedereen achter in een wolk van rook in de razendsnelle karts. Of je nu een doorgewinterde coureur bent of voor het eerst het stuur vasthoudt\, met ons beleef je pure snelheid en actie! En het mooie eraan is dat je voor maar €23\,- 2 heats van 12 min kunt karten!\nZorg wel dat je om 19:30 bij Kartplaza Actionworld in Nijverdal bent! \nMeld je snel aan want VOL=VOL\nAanmelden kan via deze link. \nWelke dag: 17-06-2025\nWanneer: 19:30\nWaar: Kartplaza Actionworld\, Energiestraat 6\, 7442 DA Nijverdal\nWat betaal ik: €23\,-
URL:https://svoxytoc.nl/event/karten/
LOCATION:Kartplaza Actionworld\, Energiestraat 6\, Nijverdal\, Overijssel\, 7442 DA\, Netherlands
END:VEVENT
END:VCALENDAR