BEGIN:VCALENDAR
VERSION:2.0
PRODID:-//S.V. Oxytoc - ECPv6.15.20//NONSGML v1.0//EN
CALSCALE:GREGORIAN
METHOD:PUBLISH
X-ORIGINAL-URL:https://svoxytoc.nl
X-WR-CALDESC:Evenementen voor S.V. Oxytoc
REFRESH-INTERVAL;VALUE=DURATION:PT1H
X-Robots-Tag:noindex
X-PUBLISHED-TTL:PT1H
BEGIN:VTIMEZONE
TZID:Europe/Paris
BEGIN:DAYLIGHT
TZOFFSETFROM:+0100
TZOFFSETTO:+0200
TZNAME:CEST
DTSTART:20240331T010000
END:DAYLIGHT
BEGIN:STANDARD
TZOFFSETFROM:+0200
TZOFFSETTO:+0100
TZNAME:CET
DTSTART:20241027T010000
END:STANDARD
BEGIN:DAYLIGHT
TZOFFSETFROM:+0100
TZOFFSETTO:+0200
TZNAME:CEST
DTSTART:20250330T010000
END:DAYLIGHT
BEGIN:STANDARD
TZOFFSETFROM:+0200
TZOFFSETTO:+0100
TZNAME:CET
DTSTART:20251026T010000
END:STANDARD
BEGIN:DAYLIGHT
TZOFFSETFROM:+0100
TZOFFSETTO:+0200
TZNAME:CEST
DTSTART:20260329T010000
END:DAYLIGHT
BEGIN:STANDARD
TZOFFSETFROM:+0200
TZOFFSETTO:+0100
TZNAME:CET
DTSTART:20261025T010000
END:STANDARD
END:VTIMEZONE
BEGIN:VEVENT
DTSTART;TZID=Europe/Paris:20250612T210000
DTEND;TZID=Europe/Paris:20250613T020000
DTSTAMP:20260423T125049
CREATED:20250611T101634Z
LAST-MODIFIED:20250611T101634Z
UID:1664-1749762000-1749780000@svoxytoc.nl
SUMMARY:White Party - Dress White\, Dance Wild
DESCRIPTION:WHITE PARTY – DRESS WHITE\, DANCE WILD\nVergeet het niet! Aankomende donderdag wordt de Generaal omgetoverd tot een zee van wit\, licht en muziek! Kom vanaf 21:00 in je witste outfit naar de Generaal en de drankjes zullen koud staan! \nPS: Trek niet jouw allernieuwste witte kleding aan. \nWelke dag: Donderdag 12 juni\nWanneer: 21:00\nWaar: De Generaal
URL:https://svoxytoc.nl/event/white-party-dress-white-dance-wild/
LOCATION:HBO sociëteit Enschede\, Stadsgravenstraat 41-43\, Enschede\, Overijssel\, 7511 EJ\, Netherlands
END:VEVENT
END:VCALENDAR