BEGIN:VCALENDAR
VERSION:2.0
PRODID:-//S.V. Oxytoc - ECPv6.15.20//NONSGML v1.0//EN
CALSCALE:GREGORIAN
METHOD:PUBLISH
X-ORIGINAL-URL:https://svoxytoc.nl
X-WR-CALDESC:Evenementen voor S.V. Oxytoc
REFRESH-INTERVAL;VALUE=DURATION:PT1H
X-Robots-Tag:noindex
X-PUBLISHED-TTL:PT1H
BEGIN:VTIMEZONE
TZID:Europe/Paris
BEGIN:DAYLIGHT
TZOFFSETFROM:+0100
TZOFFSETTO:+0200
TZNAME:CEST
DTSTART:20240331T010000
END:DAYLIGHT
BEGIN:STANDARD
TZOFFSETFROM:+0200
TZOFFSETTO:+0100
TZNAME:CET
DTSTART:20241027T010000
END:STANDARD
BEGIN:DAYLIGHT
TZOFFSETFROM:+0100
TZOFFSETTO:+0200
TZNAME:CEST
DTSTART:20250330T010000
END:DAYLIGHT
BEGIN:STANDARD
TZOFFSETFROM:+0200
TZOFFSETTO:+0100
TZNAME:CET
DTSTART:20251026T010000
END:STANDARD
BEGIN:DAYLIGHT
TZOFFSETFROM:+0100
TZOFFSETTO:+0200
TZNAME:CEST
DTSTART:20260329T010000
END:DAYLIGHT
BEGIN:STANDARD
TZOFFSETFROM:+0200
TZOFFSETTO:+0100
TZNAME:CET
DTSTART:20261025T010000
END:STANDARD
END:VTIMEZONE
BEGIN:VEVENT
DTSTART;TZID=Europe/Paris:20250507T130000
DTEND;TZID=Europe/Paris:20250507T170000
DTSTAMP:20260423T163254
CREATED:20250425T105430Z
LAST-MODIFIED:20250425T105430Z
UID:1553-1746622800-1746637200@svoxytoc.nl
SUMMARY:Snijzaal
DESCRIPTION:Bezoek de Snijzaal in Utrecht – Schrijf je nu in!\nAltijd al benieuwd geweest naar de anatomie van het menselijk lichaam? Dit is je kans! Op woensdag 7 mei organiseren wij een exclusief bezoek aan de snijzaal van het UMC Utrecht. Ontdek de fascinerende wereld van de menselijke anatomie\, van hersenen tot complete lichamen. \nWanneer: Woensdag 7 mei 2025\nWaar: UMC Utrecht\, Heidelberglaan 100\nKosten: ± €25 per persoon\nMax. deelnemers: 16 Oxytoc leden \nInschrijven kan tot 25 april 12:00\, dus schrijf je snel in!\nWees er snel bij\, want vol = vol! Klik hier voor meer details en inschrijven.
URL:https://svoxytoc.nl/event/snijzaal/
LOCATION:Anatomiegebouw Utrecht\, Bekkerstraat 141\, Utrecht\, Zuid-Holland\, 3572SG\, Netherlands
END:VEVENT
END:VCALENDAR